BEGIN:VCALENDAR
VERSION:2.0
PRODID:-//Kentucky Science Center - ECPv6.15.20//NONSGML v1.0//EN
CALSCALE:GREGORIAN
METHOD:PUBLISH
X-WR-CALNAME:Kentucky Science Center
X-ORIGINAL-URL:https://kysciencecenter.org
X-WR-CALDESC:Events for Kentucky Science Center
REFRESH-INTERVAL;VALUE=DURATION:PT1H
X-Robots-Tag:noindex
X-PUBLISHED-TTL:PT1H
BEGIN:VTIMEZONE
TZID:America/Kentucky/Louisville
BEGIN:DAYLIGHT
TZOFFSETFROM:-0500
TZOFFSETTO:-0400
TZNAME:EDT
DTSTART:20240310T070000
END:DAYLIGHT
BEGIN:STANDARD
TZOFFSETFROM:-0400
TZOFFSETTO:-0500
TZNAME:EST
DTSTART:20241103T060000
END:STANDARD
BEGIN:DAYLIGHT
TZOFFSETFROM:-0500
TZOFFSETTO:-0400
TZNAME:EDT
DTSTART:20250309T070000
END:DAYLIGHT
BEGIN:STANDARD
TZOFFSETFROM:-0400
TZOFFSETTO:-0500
TZNAME:EST
DTSTART:20251102T060000
END:STANDARD
BEGIN:DAYLIGHT
TZOFFSETFROM:-0500
TZOFFSETTO:-0400
TZNAME:EDT
DTSTART:20260308T070000
END:DAYLIGHT
BEGIN:STANDARD
TZOFFSETFROM:-0400
TZOFFSETTO:-0500
TZNAME:EST
DTSTART:20261101T060000
END:STANDARD
END:VTIMEZONE
BEGIN:VEVENT
DTSTART;TZID=America/Kentucky/Louisville:20250301T100000
DTEND;TZID=America/Kentucky/Louisville:20250301T120000
DTSTAMP:20260424T103329
CREATED:20241022T150745Z
LAST-MODIFIED:20241022T150745Z
UID:11165-1740823200-1740830400@kysciencecenter.org
SUMMARY:MAKERPLACE WORKSHOP: Kintsugi Suncatchers
DESCRIPTION:Explore the process known as kintsugi in a unique way. Taking broken agate slices\, copper tape\, and a soldering iron\, piece together a wonderful art piece that will bring beauty to the once broken pieces. \nSaturday\, March 1\, 10AM-12PM \n$20 members/$35 non-member \nMakerPlace Workshops include general admission to Kentucky Science Center. \nOpen to ages 8+. Please note that one adult is required to attend the workshop for every two children.
URL:https://kysciencecenter.org/event/makerplace-workshop-kintsugi-suncatchers-2/
LOCATION:KY
CATEGORIES:Adults,Children & Families,Teens
END:VEVENT
BEGIN:VEVENT
DTSTART;TZID=America/Kentucky/Louisville:20250308T173000
DTEND;TZID=America/Kentucky/Louisville:20250308T200000
DTSTAMP:20260424T103329
CREATED:20240830T150625Z
LAST-MODIFIED:20240830T150625Z
UID:11056-1741455000-1741464000@kysciencecenter.org
SUMMARY:Sensory Friendly Family Night: Journey to Space
DESCRIPTION:Our Sensory Friendly No Limits Family Nights offer interactive exploration for families of children with special needs in a sensory friendly environment. Enjoy after hours admission as well as themed hands-on science activities. No matter the special need\, there are no limitations when you’re doing science! \nBecome a space expert while you explore Kentucky Science Center’s three floors of interactive exhibits. Launch a rocket at our rocket table\, take off in our flight simulator\, and explore our Sun\, Earth\, Universe exhibit in a sensory-friendly environment.
URL:https://kysciencecenter.org/event/sensory-friendly-family-night-journey-to-space/
LOCATION:Kentucky Science Center\, 727 West Main Street\, Louisville\, KY\, 40202\, United States
END:VEVENT
BEGIN:VEVENT
DTSTART;TZID=America/Kentucky/Louisville:20250321T100000
DTEND;TZID=America/Kentucky/Louisville:20250322T140000
DTSTAMP:20260424T103329
CREATED:20240724T140235Z
LAST-MODIFIED:20240826T141848Z
UID:10977-1742551200-1742652000@kysciencecenter.org
SUMMARY:HEALTH & WELLNESS DAYS
DESCRIPTION:Science Celebration Days offer guests the opportunity to interact with partners and practitioners as they showcase their own real-world experiences. With partners stationed throughout the galleries\, it’s the perfect complement to enhance your experience as all additional activities are included FREE with your general admission to Kentucky Science Center on those days. \nLearn more about yourself and those around you! Health & Wellness Days connect guests with partners to learn about a variety of fields and professions related to our health\, bodies\, minds\, how we think\, how we feel\, and much more. Then spend time exploring your Kentucky Science Center. \nSponsored by Verizon
URL:https://kysciencecenter.org/event/engineering-days-3-2/
LOCATION:KY
END:VEVENT
BEGIN:VEVENT
DTSTART;TZID=America/Kentucky/Louisville:20250329T130000
DTEND;TZID=America/Kentucky/Louisville:20250329T150000
DTSTAMP:20260424T103329
CREATED:20241022T151008Z
LAST-MODIFIED:20250103T174435Z
UID:11166-1743253200-1743260400@kysciencecenter.org
SUMMARY:MAKERPLACE WORKSHOP: Infinity Mirror
DESCRIPTION:Assemble a Thunder over Louisville inspired interactive diorama that captures light reflections between two mirrors\, creating an optical illusion that goes on as far as the eye can see. \nSaturday\, March 29\, 1-3PM \n$20 members/$35 non-member \nMakerPlace Workshops include general admission to Kentucky Science Center. \nOpen to ages 8+. Please note that one adult is required to attend the workshop for every two children.
URL:https://kysciencecenter.org/event/makerplace-workshop-infinity-mirror/
LOCATION:KY
CATEGORIES:Adults,Children & Families,Teens
END:VEVENT
END:VCALENDAR