BEGIN:VCALENDAR
VERSION:2.0
PRODID:-//Kentucky Science Center - ECPv6.15.20//NONSGML v1.0//EN
CALSCALE:GREGORIAN
METHOD:PUBLISH
X-ORIGINAL-URL:https://kysciencecenter.org
X-WR-CALDESC:Events for Kentucky Science Center
REFRESH-INTERVAL;VALUE=DURATION:PT1H
X-Robots-Tag:noindex
X-PUBLISHED-TTL:PT1H
BEGIN:VTIMEZONE
TZID:America/Kentucky/Louisville
BEGIN:DAYLIGHT
TZOFFSETFROM:-0500
TZOFFSETTO:-0400
TZNAME:EDT
DTSTART:20200308T070000
END:DAYLIGHT
BEGIN:STANDARD
TZOFFSETFROM:-0400
TZOFFSETTO:-0500
TZNAME:EST
DTSTART:20201101T060000
END:STANDARD
BEGIN:DAYLIGHT
TZOFFSETFROM:-0500
TZOFFSETTO:-0400
TZNAME:EDT
DTSTART:20210314T070000
END:DAYLIGHT
BEGIN:STANDARD
TZOFFSETFROM:-0400
TZOFFSETTO:-0500
TZNAME:EST
DTSTART:20211107T060000
END:STANDARD
BEGIN:DAYLIGHT
TZOFFSETFROM:-0500
TZOFFSETTO:-0400
TZNAME:EDT
DTSTART:20220313T070000
END:DAYLIGHT
BEGIN:STANDARD
TZOFFSETFROM:-0400
TZOFFSETTO:-0500
TZNAME:EST
DTSTART:20221106T060000
END:STANDARD
END:VTIMEZONE
BEGIN:VEVENT
DTSTART;TZID=America/Kentucky/Louisville:20211009T130000
DTEND;TZID=America/Kentucky/Louisville:20211009T150000
DTSTAMP:20260424T051706
CREATED:20210913T143407Z
LAST-MODIFIED:20210913T144514Z
UID:7722-1633784400-1633791600@kysciencecenter.org
SUMMARY:MakerPlace Workshop
DESCRIPTION:Screen Print Candy Bag MakerPlace Workshop \nCreate the perfect candy bag this spooky season as you learn the art of screen printing. From digital design to final product\, our educators will lead you through the entire process. More information and tickets available here.
URL:https://kysciencecenter.org/event/makerplace-workshop-7/
LOCATION:Kentucky Science Center\, 727 West Main Street\, Louisville\, KY\, 40202\, United States
CATEGORIES:Children & Families
END:VEVENT
BEGIN:VEVENT
DTSTART;TZID=America/Kentucky/Louisville:20211015T180000
DTEND;TZID=America/Kentucky/Louisville:20211015T210000
DTSTAMP:20260424T051706
CREATED:20210909T131819Z
LAST-MODIFIED:20210913T162237Z
UID:7711-1634320800-1634331600@kysciencecenter.org
SUMMARY:Eat\, Drink\, and Do Science - Maker Edition
DESCRIPTION:  \nMake plans to attend an adults-only evening event that includes food\, drink\, full access to exhibits\, and some of our favorite Maker activity stations. Pour\, cut\, solder\, stitch\, and laser your way through several take-home crafts\, and learn a new hobby to explore. Admission includes drink tickets\, heavy hors d’oeuvres\, and all activities and supplies. \nKentucky Science Center requires masks and proof of a completed COVID-19 vaccination. For vaccines requiring a two doses\, second dose must be received no later than October 1\, 2021. As this is a limited capacity event\, no refunds will be provided for failure to produce this proof of vaccination upon entry. \nMore information and tickets available here.
URL:https://kysciencecenter.org/event/eat-drink-and-do-science-maker-edition/
LOCATION:Kentucky Science Center\, 727 West Main Street\, Louisville\, KY\, 40202\, United States
CATEGORIES:Adults
END:VEVENT
BEGIN:VEVENT
DTSTART;TZID=America/Kentucky/Louisville:20211016T130000
DTEND;TZID=America/Kentucky/Louisville:20211016T150000
DTSTAMP:20260424T051706
CREATED:20210913T143713Z
LAST-MODIFIED:20210913T144426Z
UID:7723-1634389200-1634396400@kysciencecenter.org
SUMMARY:MakerPlace Workshop
DESCRIPTION:Pumpking Painting MakerPlace Workshop \nWe provide the pumpkins and you provide the creativity for our always popular Pumpkin Painting workshop. Take home a one-of-a-kind artwork perfect for your front porch. More information and tickets available here.
URL:https://kysciencecenter.org/event/makerplace-workshop-8/
LOCATION:Kentucky Science Center\, 727 West Main Street\, Louisville\, KY\, 40202\, United States
CATEGORIES:Children & Families
END:VEVENT
BEGIN:VEVENT
DTSTART;TZID=America/Kentucky/Louisville:20211023T130000
DTEND;TZID=America/Kentucky/Louisville:20211023T150000
DTSTAMP:20260424T051706
CREATED:20210913T144013Z
LAST-MODIFIED:20210913T144446Z
UID:7724-1634994000-1635001200@kysciencecenter.org
SUMMARY:MakerPlace Workshop
DESCRIPTION:Halloween Décor: Lantern Making MakerPlace Workshop \nShow your creative side as you design\, build\, decorate your own Halloween décor. Then use it to light the night this Halloween season! More information and tickets available here.
URL:https://kysciencecenter.org/event/makerplace-workshop-9/
LOCATION:Kentucky Science Center\, 727 West Main Street\, Louisville\, KY\, 40202\, United States
CATEGORIES:Children & Families
END:VEVENT
BEGIN:VEVENT
DTSTART;TZID=America/Kentucky/Louisville:20211023T130000
DTEND;TZID=America/Kentucky/Louisville:20211023T160000
DTSTAMP:20260424T051706
CREATED:20211014T154706Z
LAST-MODIFIED:20211014T155028Z
UID:7806-1634994000-1635004800@kysciencecenter.org
SUMMARY:Scout Day
DESCRIPTION:  \n  \nScout with Science! Join us for a unique learning workshop to meet specific requirements for Girl Scouts\, Cub Scouts\, and Scouts BSA. More information and registration here.
URL:https://kysciencecenter.org/event/scout-day/
LOCATION:KY
CATEGORIES:Children & Families
END:VEVENT
BEGIN:VEVENT
DTSTART;TZID=America/Kentucky/Louisville:20211030T130000
DTEND;TZID=America/Kentucky/Louisville:20211030T150000
DTSTAMP:20260424T051706
CREATED:20210913T151506Z
LAST-MODIFIED:20211029T154635Z
UID:7725-1635598800-1635606000@kysciencecenter.org
SUMMARY:MakerPlace Workshop
DESCRIPTION:*SOLD OUT* Spooky Paint Pouring \nExplore the world of pour art in this classic MakerPlace Workshop with a Halloween twist! Discover the different techniques and additives used to change the viscosity and behaviors of acrylic-based paint (including glow-in-the-dark and UV-reactive selections!) as you create your own spooky canvas.
URL:https://kysciencecenter.org/event/makerplace-workshop-10/
LOCATION:Kentucky Science Center\, 727 West Main Street\, Louisville\, KY\, 40202\, United States
CATEGORIES:Children & Families
END:VEVENT
END:VCALENDAR