BEGIN:VCALENDAR
VERSION:2.0
PRODID:-//Kentucky Science Center - ECPv6.15.20//NONSGML v1.0//EN
CALSCALE:GREGORIAN
METHOD:PUBLISH
X-WR-CALNAME:Kentucky Science Center
X-ORIGINAL-URL:https://kysciencecenter.org
X-WR-CALDESC:Events for Kentucky Science Center
REFRESH-INTERVAL;VALUE=DURATION:PT1H
X-Robots-Tag:noindex
X-PUBLISHED-TTL:PT1H
BEGIN:VTIMEZONE
TZID:America/Kentucky/Louisville
BEGIN:DAYLIGHT
TZOFFSETFROM:-0500
TZOFFSETTO:-0400
TZNAME:EDT
DTSTART:20180311T070000
END:DAYLIGHT
BEGIN:STANDARD
TZOFFSETFROM:-0400
TZOFFSETTO:-0500
TZNAME:EST
DTSTART:20181104T060000
END:STANDARD
BEGIN:DAYLIGHT
TZOFFSETFROM:-0500
TZOFFSETTO:-0400
TZNAME:EDT
DTSTART:20190310T070000
END:DAYLIGHT
BEGIN:STANDARD
TZOFFSETFROM:-0400
TZOFFSETTO:-0500
TZNAME:EST
DTSTART:20191103T060000
END:STANDARD
BEGIN:DAYLIGHT
TZOFFSETFROM:-0500
TZOFFSETTO:-0400
TZNAME:EDT
DTSTART:20200308T070000
END:DAYLIGHT
BEGIN:STANDARD
TZOFFSETFROM:-0400
TZOFFSETTO:-0500
TZNAME:EST
DTSTART:20201101T060000
END:STANDARD
END:VTIMEZONE
BEGIN:VEVENT
DTSTART;VALUE=DATE:20191123
DTEND;VALUE=DATE:20191124
DTSTAMP:20260421T092917
CREATED:20191028T163654Z
LAST-MODIFIED:20191121T150143Z
UID:5522-1574467200-1574553599@kysciencecenter.org
SUMMARY:Maker Day
DESCRIPTION:Maker Day\nSaturday\, Nov 23 | All Day\nActivities are included in the general admission price\n  \n\nIt’s the one-year anniversary of our Maker Place so we’re pulling out all the stops! Get ready for a fun-fueled day full of our favorite maker activities from the past year (and maybe a few new surprises) as we build\, tinker\, and create our way throughout the science center.\n\n\n\n\n\nThis event is free with general admission\, so your whole family can get in the maker spirit by participating in a variety of hands on activities throughout the Science Center including: 3D pens\, pendulum painting\, circuit work\, collaborative art\, and so much more!\n\n\n\n\n\nSo come out to celebrate with us and go beyond your imagination as you hone new skills and engage with local makers\, tinkerers\, and artist as we explore everything maker!\n\n\n \n\n\n\nGet Tickets \n\n\n\nPartners\n\n\nMercy Academy\nThe Book Stops Here\nEmbroiderers Guild\nCalliope Arts Studio- Printmaking\nSoul Collage\nLouisville Public Library\nClay Works\nTails and Trails Quilting\nPeach Peppermint Puppets\nFirstBuild
URL:https://kysciencecenter.org/event/maker-day/
LOCATION:Kentucky Science Center\, 727 West Main Street\, Louisville\, KY\, 40202\, United States
END:VEVENT
END:VCALENDAR