BEGIN:VCALENDAR
VERSION:2.0
PRODID:-//Kentucky Science Center - ECPv6.15.20//NONSGML v1.0//EN
CALSCALE:GREGORIAN
METHOD:PUBLISH
X-ORIGINAL-URL:https://kysciencecenter.org
X-WR-CALDESC:Events for Kentucky Science Center
REFRESH-INTERVAL;VALUE=DURATION:PT1H
X-Robots-Tag:noindex
X-PUBLISHED-TTL:PT1H
BEGIN:VTIMEZONE
TZID:America/Kentucky/Louisville
BEGIN:DAYLIGHT
TZOFFSETFROM:-0500
TZOFFSETTO:-0400
TZNAME:EDT
DTSTART:20180311T070000
END:DAYLIGHT
BEGIN:STANDARD
TZOFFSETFROM:-0400
TZOFFSETTO:-0500
TZNAME:EST
DTSTART:20181104T060000
END:STANDARD
BEGIN:DAYLIGHT
TZOFFSETFROM:-0500
TZOFFSETTO:-0400
TZNAME:EDT
DTSTART:20190310T070000
END:DAYLIGHT
BEGIN:STANDARD
TZOFFSETFROM:-0400
TZOFFSETTO:-0500
TZNAME:EST
DTSTART:20191103T060000
END:STANDARD
BEGIN:DAYLIGHT
TZOFFSETFROM:-0500
TZOFFSETTO:-0400
TZNAME:EDT
DTSTART:20200308T070000
END:DAYLIGHT
BEGIN:STANDARD
TZOFFSETFROM:-0400
TZOFFSETTO:-0500
TZNAME:EST
DTSTART:20201101T060000
END:STANDARD
END:VTIMEZONE
BEGIN:VEVENT
DTSTART;TZID=America/Kentucky/Louisville:20190928T190000
DTEND;TZID=America/Kentucky/Louisville:20190928T220000
DTSTAMP:20260422T171027
CREATED:20190912T160041Z
LAST-MODIFIED:20190919T210318Z
UID:5326-1569697200-1569708000@kysciencecenter.org
SUMMARY:Young Frankenstein
DESCRIPTION:Young Frankenstein\nSaturday\, Sept 28 | 7:00-10:00 p.m.\n$15 for Members\, $20 for Non-members\n  \nKickoff the Halloween season with greatest horror/comedy of all time—Mel Brooks’ Young Frankenstein! Gaze upon this creation of comedy genius in all its black-and-white glory at the Kentucky Science Center’s 4-story theater. \nStick around following the film for the Kentucky premiere of Toe by local filmmakers Neal O’Bryan and Chad Thurman. This animated short is based on the classic from “Scary Stories to Tell in the Dark” and the directors will host a discussion on their movie making experience\, the science of stop motion\, and more. \n  \nFor ages 21+ \, two complimentary drink tickets included. \n  \nBuy Tickets
URL:https://kysciencecenter.org/event/young-frankenstein/
LOCATION:KY
END:VEVENT
END:VCALENDAR