BEGIN:VCALENDAR
VERSION:2.0
PRODID:-//Kentucky Science Center - ECPv6.15.20//NONSGML v1.0//EN
CALSCALE:GREGORIAN
METHOD:PUBLISH
X-WR-CALNAME:Kentucky Science Center
X-ORIGINAL-URL:https://kysciencecenter.org
X-WR-CALDESC:Events for Kentucky Science Center
REFRESH-INTERVAL;VALUE=DURATION:PT1H
X-Robots-Tag:noindex
X-PUBLISHED-TTL:PT1H
BEGIN:VTIMEZONE
TZID:America/Kentucky/Louisville
BEGIN:DAYLIGHT
TZOFFSETFROM:-0500
TZOFFSETTO:-0400
TZNAME:EDT
DTSTART:20210314T070000
END:DAYLIGHT
BEGIN:STANDARD
TZOFFSETFROM:-0400
TZOFFSETTO:-0500
TZNAME:EST
DTSTART:20211107T060000
END:STANDARD
BEGIN:DAYLIGHT
TZOFFSETFROM:-0500
TZOFFSETTO:-0400
TZNAME:EDT
DTSTART:20220313T070000
END:DAYLIGHT
BEGIN:STANDARD
TZOFFSETFROM:-0400
TZOFFSETTO:-0500
TZNAME:EST
DTSTART:20221106T060000
END:STANDARD
BEGIN:DAYLIGHT
TZOFFSETFROM:-0500
TZOFFSETTO:-0400
TZNAME:EDT
DTSTART:20230312T070000
END:DAYLIGHT
BEGIN:STANDARD
TZOFFSETFROM:-0400
TZOFFSETTO:-0500
TZNAME:EST
DTSTART:20231105T060000
END:STANDARD
END:VTIMEZONE
BEGIN:VEVENT
DTSTART;TZID=America/Kentucky/Louisville:20221118T093000
DTEND;TZID=America/Kentucky/Louisville:20221118T170000
DTSTAMP:20260425T101209
CREATED:20221026T143115Z
LAST-MODIFIED:20221026T143115Z
UID:9226-1668763800-1668790800@kysciencecenter.org
SUMMARY:Maker Days
DESCRIPTION:Making is all around us. Explore STEAM careers with talented local professionals\, ask questions\, and learn about how you can translate your favorite Maker hobbies into the workforce. Then get hands-on with a wide variety of fun and challenging Maker activities. \nAll Maker Days activities are included with your general admission to Kentucky Science Center. Learn more at our Science Celebrations page.
URL:https://kysciencecenter.org/event/maker-days/
LOCATION:KY
CATEGORIES:Children & Families,Teens
END:VEVENT
END:VCALENDAR