BEGIN:VCALENDAR
VERSION:2.0
PRODID:-//Kentucky Science Center - ECPv6.15.20//NONSGML v1.0//EN
CALSCALE:GREGORIAN
METHOD:PUBLISH
X-ORIGINAL-URL:https://kysciencecenter.org
X-WR-CALDESC:Events for Kentucky Science Center
REFRESH-INTERVAL;VALUE=DURATION:PT1H
X-Robots-Tag:noindex
X-PUBLISHED-TTL:PT1H
BEGIN:VTIMEZONE
TZID:America/Kentucky/Louisville
BEGIN:DAYLIGHT
TZOFFSETFROM:-0500
TZOFFSETTO:-0400
TZNAME:EDT
DTSTART:20210314T070000
END:DAYLIGHT
BEGIN:STANDARD
TZOFFSETFROM:-0400
TZOFFSETTO:-0500
TZNAME:EST
DTSTART:20211107T060000
END:STANDARD
BEGIN:DAYLIGHT
TZOFFSETFROM:-0500
TZOFFSETTO:-0400
TZNAME:EDT
DTSTART:20220313T070000
END:DAYLIGHT
BEGIN:STANDARD
TZOFFSETFROM:-0400
TZOFFSETTO:-0500
TZNAME:EST
DTSTART:20221106T060000
END:STANDARD
BEGIN:DAYLIGHT
TZOFFSETFROM:-0500
TZOFFSETTO:-0400
TZNAME:EDT
DTSTART:20230312T070000
END:DAYLIGHT
BEGIN:STANDARD
TZOFFSETFROM:-0400
TZOFFSETTO:-0500
TZNAME:EST
DTSTART:20231105T060000
END:STANDARD
END:VTIMEZONE
BEGIN:VEVENT
DTSTART;TZID=America/Kentucky/Louisville:20220305T130000
DTEND;TZID=America/Kentucky/Louisville:20220305T150000
DTSTAMP:20260423T075137
CREATED:20220225T145337Z
LAST-MODIFIED:20220225T145337Z
UID:8014-1646485200-1646492400@kysciencecenter.org
SUMMARY:MakerPlace Workshop: Infinity Mirror Diorama
DESCRIPTION:Make an enchanted diorama as you create an optical illusion using LEDs and mirrors. When the lights come on\, your scenery appears to go on forever. \nNon-member: $20\nMember: $15 \nTickets available here.
URL:https://kysciencecenter.org/event/makerplace-workshop-infinity-mirror-diorama/
LOCATION:KY
CATEGORIES:Adults,Children & Families
END:VEVENT
END:VCALENDAR