BEGIN:VCALENDAR
VERSION:2.0
PRODID:-//Kentucky Science Center - ECPv6.15.20//NONSGML v1.0//EN
CALSCALE:GREGORIAN
METHOD:PUBLISH
X-ORIGINAL-URL:https://kysciencecenter.org
X-WR-CALDESC:Events for Kentucky Science Center
REFRESH-INTERVAL;VALUE=DURATION:PT1H
X-Robots-Tag:noindex
X-PUBLISHED-TTL:PT1H
BEGIN:VTIMEZONE
TZID:America/Kentucky/Louisville
BEGIN:DAYLIGHT
TZOFFSETFROM:-0500
TZOFFSETTO:-0400
TZNAME:EDT
DTSTART:20210314T070000
END:DAYLIGHT
BEGIN:STANDARD
TZOFFSETFROM:-0400
TZOFFSETTO:-0500
TZNAME:EST
DTSTART:20211107T060000
END:STANDARD
BEGIN:DAYLIGHT
TZOFFSETFROM:-0500
TZOFFSETTO:-0400
TZNAME:EDT
DTSTART:20220313T070000
END:DAYLIGHT
BEGIN:STANDARD
TZOFFSETFROM:-0400
TZOFFSETTO:-0500
TZNAME:EST
DTSTART:20221106T060000
END:STANDARD
BEGIN:DAYLIGHT
TZOFFSETFROM:-0500
TZOFFSETTO:-0400
TZNAME:EDT
DTSTART:20230312T070000
END:DAYLIGHT
BEGIN:STANDARD
TZOFFSETFROM:-0400
TZOFFSETTO:-0500
TZNAME:EST
DTSTART:20231105T060000
END:STANDARD
END:VTIMEZONE
BEGIN:VEVENT
DTSTART;TZID=America/Kentucky/Louisville:20220114T190000
DTEND;TZID=America/Kentucky/Louisville:20220114T220000
DTSTAMP:20260423T131913
CREATED:20211215T194157Z
LAST-MODIFIED:20211215T195140Z
UID:7903-1642186800-1642197600@kysciencecenter.org
SUMMARY:MOVIE: The Fellowship of the Ring
DESCRIPTION:Watch the 2001 fantasy epic\, Lord of the Rings: The Fellowship of the Ring\, on our larger-than-life 4-story digital screen. $10 per person/$5 for members \nThe future of civilization rests in the fate of the One Ring\, which has been lost for centuries. Powerful forces are unrelenting in their search for it. But fate has placed it in the hands of a young Hobbit named Frodo Baggins (Elijah Wood)\, who inherits the Ring and steps into legend. A daunting task lies ahead for Frodo when he becomes the Ringbearer – to destroy the One Ring in the fires of Mount Doom where it was forged. \nSee part two of the trilogy\, The Two Towers\, on January 28th. See part three of the trilogy\, The Return of the King\, on February 11th. \nTickets available here.
URL:https://kysciencecenter.org/event/movie-the-fellowship-of-the-ring/
LOCATION:KY
CATEGORIES:Adults,Children & Families
END:VEVENT
END:VCALENDAR