BEGIN:VCALENDAR
VERSION:2.0
PRODID:-//Kentucky Science Center - ECPv6.15.20//NONSGML v1.0//EN
CALSCALE:GREGORIAN
METHOD:PUBLISH
X-WR-CALNAME:Kentucky Science Center
X-ORIGINAL-URL:https://kysciencecenter.org
X-WR-CALDESC:Events for Kentucky Science Center
REFRESH-INTERVAL;VALUE=DURATION:PT1H
X-Robots-Tag:noindex
X-PUBLISHED-TTL:PT1H
BEGIN:VTIMEZONE
TZID:America/Kentucky/Louisville
BEGIN:DAYLIGHT
TZOFFSETFROM:-0500
TZOFFSETTO:-0400
TZNAME:EDT
DTSTART:20200308T070000
END:DAYLIGHT
BEGIN:STANDARD
TZOFFSETFROM:-0400
TZOFFSETTO:-0500
TZNAME:EST
DTSTART:20201101T060000
END:STANDARD
BEGIN:DAYLIGHT
TZOFFSETFROM:-0500
TZOFFSETTO:-0400
TZNAME:EDT
DTSTART:20210314T070000
END:DAYLIGHT
BEGIN:STANDARD
TZOFFSETFROM:-0400
TZOFFSETTO:-0500
TZNAME:EST
DTSTART:20211107T060000
END:STANDARD
BEGIN:DAYLIGHT
TZOFFSETFROM:-0500
TZOFFSETTO:-0400
TZNAME:EDT
DTSTART:20220313T070000
END:DAYLIGHT
BEGIN:STANDARD
TZOFFSETFROM:-0400
TZOFFSETTO:-0500
TZNAME:EST
DTSTART:20221106T060000
END:STANDARD
END:VTIMEZONE
BEGIN:VEVENT
DTSTART;TZID=America/Kentucky/Louisville:20211219T100000
DTEND;TZID=America/Kentucky/Louisville:20211219T140000
DTSTAMP:20260424T115343
CREATED:20211027T184036Z
LAST-MODIFIED:20211029T160822Z
UID:7830-1639908000-1639922400@kysciencecenter.org
SUMMARY:Polar Express Member Day
DESCRIPTION:  \nBack by popular demand! \nAn exclusive\, members-only showing of Polar Express 3D returns to Kentucky Science Center for the holiday season. Members tickets for the 12PM screening are $5\, and each ticket includes a complimentary bag of popcorn. Members who arrive early can also take part in an exclusive 30-minute MakerPlace activity\, happening from 10:00-11:30AM (activity times assigned on arrival on a first come/first served basis). \nSeating is very limited and advance registration is required. Click here to reserve your spot.
URL:https://kysciencecenter.org/event/polar-express-member-day/
LOCATION:Kentucky Science Center\, 727 West Main Street\, Louisville\, KY\, 40202\, United States
CATEGORIES:Children & Families
END:VEVENT
END:VCALENDAR