BEGIN:VCALENDAR
VERSION:2.0
PRODID:-//Kentucky Science Center - ECPv6.15.20//NONSGML v1.0//EN
CALSCALE:GREGORIAN
METHOD:PUBLISH
X-WR-CALNAME:Kentucky Science Center
X-ORIGINAL-URL:https://kysciencecenter.org
X-WR-CALDESC:Events for Kentucky Science Center
REFRESH-INTERVAL;VALUE=DURATION:PT1H
X-Robots-Tag:noindex
X-PUBLISHED-TTL:PT1H
BEGIN:VTIMEZONE
TZID:America/Kentucky/Louisville
BEGIN:DAYLIGHT
TZOFFSETFROM:-0500
TZOFFSETTO:-0400
TZNAME:EDT
DTSTART:20180311T070000
END:DAYLIGHT
BEGIN:STANDARD
TZOFFSETFROM:-0400
TZOFFSETTO:-0500
TZNAME:EST
DTSTART:20181104T060000
END:STANDARD
BEGIN:DAYLIGHT
TZOFFSETFROM:-0500
TZOFFSETTO:-0400
TZNAME:EDT
DTSTART:20190310T070000
END:DAYLIGHT
BEGIN:STANDARD
TZOFFSETFROM:-0400
TZOFFSETTO:-0500
TZNAME:EST
DTSTART:20191103T060000
END:STANDARD
BEGIN:DAYLIGHT
TZOFFSETFROM:-0500
TZOFFSETTO:-0400
TZNAME:EDT
DTSTART:20200308T070000
END:DAYLIGHT
BEGIN:STANDARD
TZOFFSETFROM:-0400
TZOFFSETTO:-0500
TZNAME:EST
DTSTART:20201101T060000
END:STANDARD
END:VTIMEZONE
BEGIN:VEVENT
DTSTART;TZID=America/Kentucky/Louisville:20191207T173000
DTEND;TZID=America/Kentucky/Louisville:20191207T210000
DTSTAMP:20260422T103639
CREATED:20191101T171747Z
LAST-MODIFIED:20191202T172127Z
UID:5533-1575739800-1575752400@kysciencecenter.org
SUMMARY:SOLD OUT: Family Movie Night
DESCRIPTION:SOLD OUT: Family Movie Night\nSaturday\, Dec 7 | 5:30pm – 9:00pm\nTickets: Adult $20\, Children $25\,\nMember Price: Adult\, $15\, Children $20\nActivities are included in the admission price.\n  \nAll aboard for a magical holiday outing with your family\, at Kentucky Science Center! Take a trip to the North Pole as you spend your evening watching the holiday classic\, Polar Express\, in spectacular 3D. Activate your imagination and tickle your taste buds at our special liquid nitrogen ice cream bar and don’t forget to stop by and take your picture with Frosty the Snowman\, for a treasured holiday keepsake that will last a lifetime. Tickets are on sale now\, get yours before its gone! \nBook Now
URL:https://kysciencecenter.org/event/family-movie-night/
LOCATION:Kentucky Science Center\, 727 West Main Street\, Louisville\, KY\, 40202\, United States
END:VEVENT
END:VCALENDAR